BEGIN:VCALENDAR
VERSION:2.0
PRODID:-//ES Childminding - ECPv6.0.8//NONSGML v1.0//EN
CALSCALE:GREGORIAN
METHOD:PUBLISH
X-WR-CALNAME:ES Childminding
X-ORIGINAL-URL:https://es-childminding.eu
X-WR-CALDESC:Veranstaltungen für ES Childminding
REFRESH-INTERVAL;VALUE=DURATION:PT1H
X-Robots-Tag:noindex
X-PUBLISHED-TTL:PT1H
BEGIN:VTIMEZONE
TZID:Europe/Berlin
BEGIN:DAYLIGHT
TZOFFSETFROM:+0100
TZOFFSETTO:+0200
TZNAME:CEST
DTSTART:20260329T010000
END:DAYLIGHT
BEGIN:STANDARD
TZOFFSETFROM:+0200
TZOFFSETTO:+0100
TZNAME:CET
DTSTART:20261025T010000
END:STANDARD
END:VTIMEZONE
BEGIN:VEVENT
DTSTART;TZID=Europe/Berlin:20260422T150000
DTEND;TZID=Europe/Berlin:20260422T160000
DTSTAMP:20260422T125613
CREATED:20260311T125111Z
LAST-MODIFIED:20260311T125111Z
UID:4851-1776870000-1776873600@es-childminding.eu
SUMMARY:Little Scientist
DESCRIPTION:#BESTSELLER!!! \n9-wöchiger Kurs I Ab dem 15.04.2026. 60 Minuten pro Unterrichtseinheit. \nIn diesem fröhlichen Forscherkurs gehen die Kinder spannenden Alltagsphänomenen auf den Grund. Mit einfachen Experimenten wird gemischt\, beobachtet\, ausprobiert und gestaunt: Was passiert\, wenn sich Dinge verbinden? Warum sprudelt es\, bewegt sich oder verändert seine Farbe? \nGanz spielerisch entdecken die Kinder\, wie Materialien reagieren und warum manche Dinge „zauberhaft“ wirken\, obwohl alles ganz natürlich ist. Durch eigenes Tun lernen sie\, genau hinzuschauen\, Fragen zu stellen und Zusammenhänge zu erkennen – ohne komplizierte Erklärungen\, dafür mit viel Neugier und Spaß. \nDer Kurs lädt zum Mitmachen\, Staunen und Ausprobieren ein und zeigt den Kindern: Entdecken macht Freude\, und Forschen kann richtig spannend sein. \nZur Buchung…
URL:https://es-childminding.eu/kalender/little-scientist-2/
CATEGORIES:Nachmittagsbetreuung
END:VEVENT
BEGIN:VEVENT
DTSTART;TZID=Europe/Berlin:20260422T150000
DTEND;TZID=Europe/Berlin:20260422T163000
DTSTAMP:20260422T125613
CREATED:20260311T125353Z
LAST-MODIFIED:20260311T125353Z
UID:4875-1776870000-1776875400@es-childminding.eu
SUMMARY:Tech Club: Robo Builders
DESCRIPTION:9-wöchiger Kurs | Ab dem 15.04.2026. 90 Minuten pro Unterrichtseinheit. \nIn unserer neuen Tech Club AG tauchen die Kinder in die faszinierende Welt des ingenieurwissenschaftlichen Robotik-Designs ein. Schritt für Schritt konstruieren sie die mechanische Grundstruktur eines Roboters: Sie montieren präzise Bauteile\, ziehen Schraubverbindungen an\, justieren Achsen und Zahnräder und verstehen dabei\, wie durch stabile Mechanik kontrollierte Bewegung entsteht. \nIm nächsten Schritt setzen die jungen Ingenieure die elektronischen Komponenten ein. Sie verdrahten Motoren\, Sensoren und LEDs und erfahren\, wie elektrische Energie übertragen wird\, wie Signale verarbeitet werden und wie Hardware und Software in einem funktionierenden System zusammenspielen. \nDurch experimentelle Versuche und klar strukturierte Projekte lernen die Kinder\, wie ein Roboter Bewegungsabläufe ausführt\, auf Umweltreize reagiert und Entscheidungen trifft. Sie erwerben grundlegende Kenntnisse in Mechanik\, Elektronik und Programmierlogik\, stärken ihre Feinmotorik sowie ihre Fähigkeit zur Problemanalyse und Teamarbeit. \nZur Buchung…
URL:https://es-childminding.eu/kalender/tech-club-robo-builders-11/
CATEGORIES:Nachmittagsbetreuung
END:VEVENT
BEGIN:VEVENT
DTSTART;TZID=Europe/Berlin:20260422T160000
DTEND;TZID=Europe/Berlin:20260422T170000
DTSTAMP:20260422T125613
CREATED:20260311T124215Z
LAST-MODIFIED:20260311T124215Z
UID:4823-1776873600-1776877200@es-childminding.eu
SUMMARY:Little Tennis Stars
DESCRIPTION:#BESTSELLER!!! \n6-wöchiger Kurs I Ab dem 15.04.2026. 60 Minuten pro Unterrichtseinheit. \nIn unserem anfängerfreundlichen Tenniskurs machen Kinder auf spielerische Weise ihre ersten Schritte auf dem Court. \nDer Kurs richtet sich speziell an junge Einsteiger und vermittelt grundlegende Fähigkeiten wie den sicheren Umgang mit dem Schläger\, das gezielte Treffen des Balls und erste Bewegungsabläufe. \nMit abwechslungsreichen Übungen\, spannenden Spielen und viel Spaß schaffen unsere erfahrenen Trainer eine positive Lernatmosphäre\, in der jedes Kind individuell gefördert wird. \nZur Buchung…
URL:https://es-childminding.eu/kalender/little-tennis-stars-26/
CATEGORIES:Nachmittagsbetreuung
END:VEVENT
BEGIN:VEVENT
DTSTART;TZID=Europe/Berlin:20260422T160000
DTEND;TZID=Europe/Berlin:20260422T170000
DTSTAMP:20260422T125613
CREATED:20260311T124507Z
LAST-MODIFIED:20260311T124507Z
UID:4834-1776873600-1776877200@es-childminding.eu
SUMMARY:Tennis
DESCRIPTION:#BESTSELLER!!! \n9-wöchiger Kurs I Ab dem 15.04.2026. 60 Minuten pro Unterrichtseinheit. \nIn unserem Tenniskurs werden den Teilnehmern die grundlegenden Techniken des Tennissports nahe gebracht. Von der richtigen Handhabung des Schlägers bis hin zu speziellen Schlagtechniken werden die Kinder alles lernen\, was sie brauchen\, um auf dem Platz zu glänzen. \nUnter Anleitung von unserem erfahrenen Tennistrainer Ernesto Gomez werden die Kids ihre Technik verbessern und ihr Spiel weiterentwickeln. Hier ist für Jeden etwas dabei\, ob Anfänger oder Fortgeschritten. \nDie ersten sechs Einheiten finden in der ESRM-Sporthalle statt und bieten ideale Bedingungen\, um Grundlagen und Technik strukturiert zu erlernen. Die letzten drei Einheiten werden im TC Wöllstadt durchgeführt\, sodass die Kinder ihre erlernten Fähigkeiten auf einem Sandplatz anwenden und vertiefen können – ganz wie bei den großen Vorbildern auf dem Court von Roland Garros. \nZur Buchung…
URL:https://es-childminding.eu/kalender/tennis-28/
CATEGORIES:Nachmittagsbetreuung
END:VEVENT
END:VCALENDAR