BEGIN:VCALENDAR
VERSION:2.0
PRODID:-//ES Childminding - ECPv6.0.8//NONSGML v1.0//EN
CALSCALE:GREGORIAN
METHOD:PUBLISH
X-WR-CALNAME:ES Childminding
X-ORIGINAL-URL:https://es-childminding.eu
X-WR-CALDESC:Veranstaltungen für ES Childminding
REFRESH-INTERVAL;VALUE=DURATION:PT1H
X-Robots-Tag:noindex
X-PUBLISHED-TTL:PT1H
BEGIN:VTIMEZONE
TZID:Europe/Berlin
BEGIN:DAYLIGHT
TZOFFSETFROM:+0100
TZOFFSETTO:+0200
TZNAME:CEST
DTSTART:20260329T010000
END:DAYLIGHT
BEGIN:STANDARD
TZOFFSETFROM:+0200
TZOFFSETTO:+0100
TZNAME:CET
DTSTART:20261025T010000
END:STANDARD
END:VTIMEZONE
BEGIN:VEVENT
DTSTART;TZID=Europe/Berlin:20260417T130000
DTEND;TZID=Europe/Berlin:20260417T140000
DTSTAMP:20260421T101248
CREATED:20260304T074224Z
LAST-MODIFIED:20260304T074224Z
UID:4718-1776430800-1776434400@es-childminding.eu
SUMMARY:Martial Arts
DESCRIPTION:#BESTSELLER!!! \n8-wöchiger Kurs | Ab dem 17.04.2026. 60 Minuten pro Unterrichtseinheit. \nIn diesem Kurs tauchen die Kinder spielerisch in die Welt der Kampfkunst ein – mit jeder Menge Bewegung\, Energie und Spaß! Durch kindgerechte Übungen lernen sie\, wie man stark\, schnell und konzentriert wird – ganz ohne Wettkampf oder Druck. \nBeim Rollen\, Springen\, Kicken und Balancieren schulen sie Körpergefühl\, Koordination und Reaktionsvermögen. Ganz nebenbei entdecken sie\, was echte kleine Ninjas ausmacht: Mut\, Respekt\, Selbstvertrauen und Teamgeist! \nEin Kurs voller Power\, Bewegung und Abenteuer – perfekt für kleine Heldinnen und Helden mit großer Energie! \nZur Buchung…
URL:https://es-childminding.eu/kalender/martial-arts-10/
CATEGORIES:Nachmittagsbetreuung
END:VEVENT
BEGIN:VEVENT
DTSTART;TZID=Europe/Berlin:20260417T130000
DTEND;TZID=Europe/Berlin:20260417T140000
DTSTAMP:20260421T101248
CREATED:20260304T074241Z
LAST-MODIFIED:20260304T074241Z
UID:4705-1776430800-1776434400@es-childminding.eu
SUMMARY:Ballett
DESCRIPTION:#BESTSELLER!!! \n8-wöchiger Kurs I Ab dem 17.04.2026. 60 Minuten pro Einheit. \nEntdecken Sie die Magie des Balletts: \nIn diesem Anfängerkurs führen wir Ihr Kind behutsam in die faszinierende Welt des Tanzes ein und legen dabei besonderen Wert auf grundlegende Bewegungsabläufe\, richtige Positionen und eine gesunde Körperhaltung. Durch gezielte Übungen wird nicht nur die Flexibilität\, Koordination und Kraft Ihres Kindes gefördert\, sondern auch ein gesteigertes Wohlbefinden erzielt. \nBeobachten Sie voller Freude\, wie Ihr kleiner Ballett-Star Anmut und Eleganz entwickelt und dabei ein natürliches Körpergefühl aufbaut. Mit viel Einfühlungsvermögen und Leidenschaft vermittelt Ballerina Daniela Krieg die zauberhaften Grundlagen des klassischen Balletts – und lädt alle Einsteiger ein\, gemeinsam die wunderbare Magie des Tanzes zu entdecken. \nElternaufführung inklusive! \nZur Buchung…
URL:https://es-childminding.eu/kalender/ballett-18/
CATEGORIES:Nachmittagsbetreuung
END:VEVENT
BEGIN:VEVENT
DTSTART;TZID=Europe/Berlin:20260417T130000
DTEND;TZID=Europe/Berlin:20260417T160000
DTSTAMP:20260421T101248
CREATED:20260304T074205Z
LAST-MODIFIED:20260304T074205Z
UID:4724-1776430800-1776441600@es-childminding.eu
SUMMARY:Rugby
DESCRIPTION:8-wöchiger Kurs. Ab 17.04.2026. 60 Minuten pro Einheit. \nFliegende Kicks\, Tackles und pure Freude\, in Zusammenarbeit mit dem SC Frankfurt 1880! \nDie Kinder werden die Erfahrung des erfahrenen U-14-Trainers Johan Niederberger lieben\, der ihnen beibringt\, ihre Rugby-Fähigkeiten\, Teamwork und Sportlichkeit zu entwickeln. \nDies ist die perfekte Gelegenheit\, eine wunderbare\, adrenalingeladene Sportart zu erlernen\, die motorischen Fähigkeiten zu verbessern und vor allem eine Menge Spaß zu haben. \nZur Buchung…
URL:https://es-childminding.eu/kalender/rugby-16/
CATEGORIES:Nachmittagsbetreuung
END:VEVENT
BEGIN:VEVENT
DTSTART;TZID=Europe/Berlin:20260417T130000
DTEND;TZID=Europe/Berlin:20260417T163000
DTSTAMP:20260421T101248
CREATED:20260304T074140Z
LAST-MODIFIED:20260304T074140Z
UID:4710-1776430800-1776443400@es-childminding.eu
SUMMARY:Film Directors Studio
DESCRIPTION:8-wöchiger Kurs I Ab dem 17.04.2026. 90 Minuten pro Unterrichtseinheit. \nIn diesem Kurs entdecken Kinder die Grundlagen des Stop-Motion-Films und machen ihre ersten Schritte in die Welt der Filmregie. Von der kreativen Idee über das Storyboard bis hin zur fertigen Animation lernen sie\, wie aus Fantasie\, Bildern und Bewegung kleine Filme entstehen – ganz nach ihren eigenen Vorstellungen. \nDie Kids gestalten eigene Figuren und Kulissen\, setzen Alltagsgegenstände in Szene und erproben verschiedene Animationstechniken. Dabei entwickeln sie nicht nur ein Gefühl für Timing\, Bildgestaltung und Dramaturgie\, sondern auch Geduld\, Präzision und Teamarbeit. \nMit Hilfe altersgerechter Tools und unter professioneller Anleitung entstehen am Ende beeindruckende Mini-Filme\, auf die die Kinder mit Recht stolz sein können. Ein Kurs\, der Kreativität\, technisches Verständnis und Ausdruckskraft auf besondere Weise verbindet. \nZur Buchung…
URL:https://es-childminding.eu/kalender/film-directors-studio-2/
CATEGORIES:Nachmittagsbetreuung
END:VEVENT
END:VCALENDAR