BEGIN:VCALENDAR
VERSION:2.0
PRODID:-//ES Childminding - ECPv6.0.8//NONSGML v1.0//EN
CALSCALE:GREGORIAN
METHOD:PUBLISH
X-WR-CALNAME:ES Childminding
X-ORIGINAL-URL:https://es-childminding.eu
X-WR-CALDESC:Veranstaltungen für ES Childminding
REFRESH-INTERVAL;VALUE=DURATION:PT1H
X-Robots-Tag:noindex
X-PUBLISHED-TTL:PT1H
BEGIN:VTIMEZONE
TZID:Europe/Berlin
BEGIN:DAYLIGHT
TZOFFSETFROM:+0100
TZOFFSETTO:+0200
TZNAME:CEST
DTSTART:20260329T010000
END:DAYLIGHT
BEGIN:STANDARD
TZOFFSETFROM:+0200
TZOFFSETTO:+0100
TZNAME:CET
DTSTART:20261025T010000
END:STANDARD
END:VTIMEZONE
BEGIN:VEVENT
DTSTART;TZID=Europe/Berlin:20260416T130000
DTEND;TZID=Europe/Berlin:20260416T144500
DTSTAMP:20260422T112119
CREATED:20260304T074505Z
LAST-MODIFIED:20260311T131229Z
UID:4700-1776344400-1776350700@es-childminding.eu
SUMMARY:Adventureland
DESCRIPTION:#BESTSELLER!!! \n7-wöchiger Kurs | Ab dem 16.04.2026. 105 Minuten pro Unterrichtseinheit. \nJeder Donnerstag wird zu einem neuen Abenteuer in dieser aufregenden AG! \nVon magischen Schatzsuchen bis hin zu fantasievollen Erlebnissen unter freiem Himmel – in den wärmeren Monaten zieht Adventureland nach draußen. Dort können sich die Kinder frei bewegen\, gemeinsam Rätsel lösen\, kleine Wettkämpfe meistern und auf geheimnisvolle Entdeckungstouren gehen. \nMit viel Fantasie und Bewegung entstehen zauberhafte Spielwelten\, in denen Teamgeist\, Neugier und die Freude am Entdecken im Mittelpunkt stehen. Die Natur wird zur Kulisse für magische Aufgaben und spannende Herausforderungen – ein lebendiges Outdoor-Abenteuer\, das die warmen Monate optimal nutzt und die Kinder immer wieder aufs Neue begeistert. \nZur Buchung…
URL:https://es-childminding.eu/kalender/adventureland-31/
CATEGORIES:Nachmittagsbetreuung
END:VEVENT
BEGIN:VEVENT
DTSTART;TZID=Europe/Berlin:20260416T150000
DTEND;TZID=Europe/Berlin:20260416T160000
DTSTAMP:20260422T112119
CREATED:20260304T074445Z
LAST-MODIFIED:20260311T133854Z
UID:4730-1776351600-1776355200@es-childminding.eu
SUMMARY:Skateboard
DESCRIPTION:#BESTSELLER!!! \n7-wöchiger Kurs. Vom 16.04.2026. 60 Minuten pro Einheit. \nEin einzigartiges Konzept\, das Ihrem Kind eine echte Out-of-the-Box-Thinking-Erfahrung bietet – aktiv\, stärkend und mit genau der richtigen Portion Mut. \nWir gehen mit voller Energie voraus! Unter der Anleitung unseres professionellen Skaters und Stuntmans Chris lernen die Kinder Schritt für Schritt alle grundlegenden Fähigkeiten\, die sie brauchen\, um sich sicher und selbstbewusst auf dem Board zu bewegen. Dabei geht es nicht nur um Technik\, sondern auch um Gleichgewicht\, Selbstvertrauen und den Mut\, Neues auszuprobieren. \nDie Kinder bringen ihr eigenes Board sowie einen Helm mit. Wir kümmern uns um alles Weitere: Rampen\, Aufbau und höchste Sicherheitsvorkehrungen. In einer geschützten und unterstützenden Umgebung dürfen die Kinder ausprobieren\, hinfallen\, wieder aufstehen und echte Erfolgserlebnisse sammeln. \nLets skate! \nZur Buchung…
URL:https://es-childminding.eu/kalender/skateboard-15/
CATEGORIES:Nachmittagsbetreuung
END:VEVENT
BEGIN:VEVENT
DTSTART;TZID=Europe/Berlin:20260416T150000
DTEND;TZID=Europe/Berlin:20260416T160000
DTSTAMP:20260422T112119
CREATED:20260304T074455Z
LAST-MODIFIED:20260311T134108Z
UID:4726-1776351600-1776355200@es-childminding.eu
SUMMARY:Schach für Beginner
DESCRIPTION:#BESTSELLER!!! \n7-wöchiger Kurs I Ab dem 16.04.2026. 60 Minuten pro Unterrichtseinheit. \nSchach fördert unter anderem die Fähigkeiten zu Konzentration und abstraktem Denken bei Kindern. “Gewinnen wollen und verlieren können” ist eine wertvolle Erfahrung für Schüler. \nDie Chess Tigers (https://www.chess-tigers.de/) führen seit 2005 Projekte im Bereich Schulschach durch und erzielen dabei beachtliche Erfolge\, auch hier bei uns an der ESRM erfreuen sie sich großer Beliebtheit. \nDieser Kurs richtet sich an Anfänger im Schach und vermittelt alle nötigen Grundkenntnisse. \nDer Kurs wird in Deutsch abgehalten. \nZur Buchung…
URL:https://es-childminding.eu/kalender/schach-fuer-beginner-48/
CATEGORIES:Nachmittagsbetreuung
END:VEVENT
BEGIN:VEVENT
DTSTART;TZID=Europe/Berlin:20260416T150000
DTEND;TZID=Europe/Berlin:20260416T163000
DTSTAMP:20260422T112119
CREATED:20260304T074433Z
LAST-MODIFIED:20260311T125630Z
UID:4736-1776351600-1776357000@es-childminding.eu
SUMMARY:Töpfern
DESCRIPTION:7-wöchiger Kurs | Vom 16.04.2026. 90 Minuten pro Unterrichtseinheit. \nDiese spannende Aktivität ist perfekt für Kinder\, die ihre künstlerische Seite entdecken wollen. In einer freundlichen und unterstützenden Umgebung lernen die Kinder grundlegende Töpfertechniken\, vom Formen des Tons bis zum Bemalen ihrer Kreationen. Es ist eine fantastische Möglichkeit für Kinder\, ihre Kreativität auszudrücken\, ihre feinmotorischen Fähigkeiten zu entwickeln und neue Freunde zu finden. \nZur Buchung…
URL:https://es-childminding.eu/kalender/toepfern-42/
CATEGORIES:Nachmittagsbetreuung
END:VEVENT
BEGIN:VEVENT
DTSTART;TZID=Europe/Berlin:20260416T160000
DTEND;TZID=Europe/Berlin:20260416T170000
DTSTAMP:20260422T112119
CREATED:20260304T074254Z
LAST-MODIFIED:20260312T132431Z
UID:4728-1776355200-1776358800@es-childminding.eu
SUMMARY:Schach für Fortgeschrittene
DESCRIPTION:#BESTSELLER!!! \n  \n7-wöchiger Kurs I Ab dem 16.04.2026. 60 Minuten pro Unterrichtseinheit. \nSchach fördert unter anderem die Fähigkeiten zu Konzentration und abstraktem Denken bei Kindern. “Gewinnen wollen und verlieren können” ist eine wertvolle Erfahrung für Schüler. \nDie Chess Tigers (https://www.chess-tigers.de/) führen seit 2005 Projekte im Bereich Schulschach durch und erzielen dabei beachtliche Erfolge\, auch hier bei uns an der ESRM erfreuen sie sich großer Beliebtheit. \nDieser Kurs richtet sich an fortgeschrittene Spieler\, die im Vorfeld den Anfänger-Kurs besucht haben oder bereits nachweisbare Erfahrungen im Schach besitzen. Neben der Auffrischung der bereits erlernten Grundkenntnisse\, vermittelt diese AG gezielt spezielle Züge und Spielstrategien\, um das Spiel Ihres Kindes nachhaltig zu verbessern. \nDer Kurs wird in Deutsch abgehalten. \nZur Buchung…
URL:https://es-childminding.eu/kalender/schach-fuer-fortgeschrittene-38/
CATEGORIES:Nachmittagsbetreuung
END:VEVENT
END:VCALENDAR